BEGIN:VCALENDAR
VERSION:2.0
PRODID:http://www.kufer.de/kuferweb / DE
METHOD:PUBLISH
CALSCALE:GREGORIAN
X-WR-TIMEZONE:Europe/Berlin
BEGIN:VTIMEZONE
TZID:Europe/Berlin
X-LIC-LOCATION:Europe/Berlin
BEGIN:DAYLIGHT
TZOFFSETFROM:+0100
TZOFFSETTO:+0200
TZNAME:CEST
DTSTART;TZID=Europe/Berlin:19700329T020000
RRULE:FREQ=YEARLY;INTERVAL=1;BYDAY=-1SU;BYMONTH=3
END:DAYLIGHT
BEGIN:STANDARD
TZOFFSETFROM:+0200
TZOFFSETTO:+0100
TZNAME:CET
DTSTART;TZID=Europe/Berlin:19701025T030000
RRULE:FREQ=YEARLY;INTERVAL=1;BYDAY=-1SU;BYMONTH=10
END:STANDARD
END:VTIMEZONE
BEGIN:VEVENT
DTSTAMP:20260420T063900
DTSTART;TZID=Europe/Berlin:20261109T163000
DTEND;TZID=Europe/Berlin:20261109T203000
UID:C1101-11-20261109T163000@JFDRHEINE JUGEND- UND FAMILIENDIENST E.V.
SUMMARY:Erste Hilfe in Bildungs- und Betreuungseinrichtungen (C1101-11) 
LOCATION:WH Halle , Wadelheimer Chaussee 195, 48432 Rheine
END:VEVENT
BEGIN:VEVENT
DTSTAMP:20260420T063900
DTSTART;TZID=Europe/Berlin:20261110T163000
DTEND;TZID=Europe/Berlin:20261110T203000
UID:C1101-11-20261110T163000@JFDRHEINE JUGEND- UND FAMILIENDIENST E.V.
SUMMARY:Erste Hilfe in Bildungs- und Betreuungseinrichtungen (C1101-11) 
LOCATION:WH Halle , Wadelheimer Chaussee 195, 48432 Rheine
END:VEVENT
END:VCALENDAR