BEGIN:VCALENDAR
VERSION:2.0
PRODID:http://www.kufer.de/kuferweb / DE
METHOD:PUBLISH
CALSCALE:GREGORIAN
X-WR-TIMEZONE:Europe/Berlin
BEGIN:VTIMEZONE
TZID:Europe/Berlin
X-LIC-LOCATION:Europe/Berlin
BEGIN:DAYLIGHT
TZOFFSETFROM:+0100
TZOFFSETTO:+0200
TZNAME:CEST
DTSTART;TZID=Europe/Berlin:19700329T020000
RRULE:FREQ=YEARLY;INTERVAL=1;BYDAY=-1SU;BYMONTH=3
END:DAYLIGHT
BEGIN:STANDARD
TZOFFSETFROM:+0200
TZOFFSETTO:+0100
TZNAME:CET
DTSTART;TZID=Europe/Berlin:19701025T030000
RRULE:FREQ=YEARLY;INTERVAL=1;BYDAY=-1SU;BYMONTH=10
END:STANDARD
END:VTIMEZONE
BEGIN:VEVENT
DTSTAMP:20260420T144448
DTSTART;TZID=Europe/Berlin:20250101T083000
DTEND;TZID=Europe/Berlin:20250101T153000
UID:B11.02-82-20250101T083000@JFDRHEINE JUGEND- UND FAMILIENDIENST E.V.
SUMMARY:Alltagsintegrierte Sprachförderung- Wahlthema der Kita Inhouse-Schulung für Kita-Teams (B11.02-82) 
LOCATION:Inhouseveranstaltung , , 
END:VEVENT
END:VCALENDAR